BEGIN:VCALENDAR
VERSION:2.0
PRODID:-//Fish Lane Studios - ECPv6.15.20//NONSGML v1.0//EN
CALSCALE:GREGORIAN
METHOD:PUBLISH
X-ORIGINAL-URL:https://www.fishlanestudios.com
X-WR-CALDESC:Events for Fish Lane Studios
REFRESH-INTERVAL;VALUE=DURATION:PT1H
X-Robots-Tag:noindex
X-PUBLISHED-TTL:PT1H
BEGIN:VTIMEZONE
TZID:Australia/Brisbane
BEGIN:STANDARD
TZOFFSETFROM:+1000
TZOFFSETTO:+1000
TZNAME:AEST
DTSTART:20240101T000000
END:STANDARD
END:VTIMEZONE
BEGIN:VEVENT
DTSTART;TZID=Australia/Brisbane:20251101T110000
DTEND;TZID=Australia/Brisbane:20251101T160000
DTSTAMP:20260420T214631
CREATED:20251023T062235Z
LAST-MODIFIED:20251023T062754Z
UID:10000076-1761994800-1762012800@www.fishlanestudios.com
SUMMARY:Discover New Watercolour Techniques With Artist Wyn Vogel - Coleraine Pastural and Agricultural Show 2025 (P&A) - 1st November 2025
DESCRIPTION:Artist In Residence – Wyn Vogel\nCelebrated local artist\, Wyn Vogel will be demonstrating her techniques in using water colour paints\, ink and other media at the Coleraine Show on Saturday 1st November. \nHave you thought you might like to have a try at water colour painting? \nWell\, here’s your opportunity! \nWyn will have all the materials available for you to have a go and instruct you on her\ntechnique. Wyn will be located in the Arts and Crafts Hub at the show\nfrom 11am – 4pm. Come along and release your inner artist. Book a time\nslot if you want. For more information contact Wyn direct at\nwyn@fishlanestudios.com or colerainepandasociety@gmail.com \n11am to 4pm – 1st November 2025\n37 Casterton Rd – Coleraine Showgrounds Victoria 3315 \nPre- Order Your Ticket – Save $2.00
URL:https://www.fishlanestudios.com/event/discover-new-watercolour-techniques-with-artist-wyn-vogel-coleraine-pastural-and-agricultural-show-2025-pa-1st-november-2025/
LOCATION:Coleraine Showground – 37 Casterton Rd Coleraine Vic\, 37 Casterton Rd\, Coleraine\, Victoria\, 3315\, Australia
CATEGORIES:Events
ATTACH;FMTTYPE=image/jpeg:https://www.fishlanestudios.com/wp-content/uploads/2025/02/Wyn-Vogel-Banksia-Saxacola-looking-up_Largethumb.jpg
ORGANIZER;CN="Fish Lane Studios":MAILTO:wyn@fishlanestudios.com
END:VEVENT
END:VCALENDAR