BEGIN:VCALENDAR
VERSION:2.0
PRODID:-//Fish Lane Studios - ECPv6.15.20//NONSGML v1.0//EN
CALSCALE:GREGORIAN
METHOD:PUBLISH
X-WR-CALNAME:Fish Lane Studios
X-ORIGINAL-URL:https://www.fishlanestudios.com
X-WR-CALDESC:Events for Fish Lane Studios
REFRESH-INTERVAL;VALUE=DURATION:PT1H
X-Robots-Tag:noindex
X-PUBLISHED-TTL:PT1H
BEGIN:VTIMEZONE
TZID:Australia/Melbourne
BEGIN:STANDARD
TZOFFSETFROM:+1100
TZOFFSETTO:+1000
TZNAME:AEST
DTSTART:20240406T160000
END:STANDARD
BEGIN:DAYLIGHT
TZOFFSETFROM:+1000
TZOFFSETTO:+1100
TZNAME:AEDT
DTSTART:20241005T160000
END:DAYLIGHT
BEGIN:STANDARD
TZOFFSETFROM:+1100
TZOFFSETTO:+1000
TZNAME:AEST
DTSTART:20250405T160000
END:STANDARD
BEGIN:DAYLIGHT
TZOFFSETFROM:+1000
TZOFFSETTO:+1100
TZNAME:AEDT
DTSTART:20251004T160000
END:DAYLIGHT
BEGIN:STANDARD
TZOFFSETFROM:+1100
TZOFFSETTO:+1000
TZNAME:AEST
DTSTART:20260404T160000
END:STANDARD
BEGIN:DAYLIGHT
TZOFFSETFROM:+1000
TZOFFSETTO:+1100
TZNAME:AEDT
DTSTART:20261003T160000
END:DAYLIGHT
END:VTIMEZONE
BEGIN:VEVENT
DTSTART;TZID=Australia/Melbourne:20250404T100000
DTEND;TZID=Australia/Melbourne:20250404T143000
DTSTAMP:20260421T100411
CREATED:20250315T061715Z
LAST-MODIFIED:20250321T093418Z
UID:10000070-1743760800-1743777000@www.fishlanestudios.com
SUMMARY:Wet-on-Wet Workshop - A Workshop Creating Translucence in Your Artwork - Friday 4th April 2025 - Hamilton Victoria 3300
DESCRIPTION:Briar Roses – 56 x 38cm\nArches Cold Pressed Watercolour Paper\nHave you ever wondered how an Artist is able to have this wonderful transition of light between and around their subject – this Workshop is designed to help you discover the beauty and translucence that you can create by using a mix of techniques\, commencing with a wet-on-wet substrate. \nAs you can see you can still achieve some stunning vibrant colours – so there is nothing to be afraid of – come and join Artist Wyn Vogel – in her Hamilton Victoria Studio – for this small group Workshop – limit 10 participants – BYO own lunch\, but tea and coffee on the hob for you as needed! \nBring a Picnic Lunch and a Mug\nThis is a full day Workshop – from 10am to 2pm or there about – so bring a picnic lunch – tea and coffee are available and a fridge of cool water is at your fingertips. \nArt Materials to Bring With You:\nAll of these items listed below are available to buy in Studio if you don’t have them – ! \n\nAt least 1 sheet Arches 300gsm Cold Pressed Watercolour Paper\nAnd some smaller sheets of watercolour paper to try out ideas – again experimental so these can be scraps from other Work if you have them!\n\nPAINTS | Watercolour Paint – Watercolour Pencils – Watercolour Inks – \nbut please bring whatever colours you have in your kit – this is a floral Workshop so you can vary the colours of your flowers to whatever you like – but Wyn Suggests at least: \n\nUltramarine Blue\nIndigo\nCadmium Yellow – Deep\nPhthalo Blue\nAlizarin Crimson and/or Deep Cadmium Red – or similar colours – you are welcome to bring colours of your favourite roses see the images on the montage of Roses\n\nBrushes – at least those below – \nbut please bring whatever brushes you have in your kit: \nAt Least 1 of each brush below – more will help you: \n\n1 each x 1/2 inch and 3/4inch Angle Shader\n1 x wide wash brush at least 2 inches in width – for wet work\, we recommend the 2 inch Art Spectrum Soft Varnish Brush – I would recommend you have at least 2 with you\, and\n1 x wide dry brush at least 2 inches in width – feel it with you hand and maker sure it is very soft Goat Hair recommended – for dry work –\n1 x Squirrel Needle point or Chinese style calligraphy brush for detailed line work and layering of your colours – we recommend No10 – NEEF Squirrel Needle Point – see the images below and on the cover photo for guidance!\n\nOther Tools:\n\n1 x old kitchen spray bottle – washed out and ready to have clean water to spray across your paints – I recommend an old ‘Windex’ Bottle of similar to give you a good spray of water.\na 2B pencil and if you would like a rubber\nHair dryer to dry your work between layers\nBacking board to tape your sample papers down (core board or similar from Bunnings) and tape to manage your paper – we don’t use an easel we tape the paper to the backing board so we can move the paper and tilt or turn as needed to manage your paint and water.\n\nRemember to BYO your own lunch – bring your mug – Tea and Coffee are available all day!\n \n \nREFUND POLICY \n** refunds will be in full if we are notified 72 hours ahead of the Dates\, \n** we will withhold the card fee\, but refund bookings notified within 24 hours of the Workshops – however\, \n** if there is a no-show on the day without notification\, we will not refund the ticket at that time. \n 
URL:https://www.fishlanestudios.com/event/wet-on-wet-workshop-a-workshop-creating-translucence-in-your-artwork-friday-4th-april-2025-hamilton-victoria-3300/
LOCATION:Fish Lane Studios – Art Space 21 Brown Street Hamilton Vic 3300\, 21 Brown Street\, Hamilton\, Victoria\, 3300\, Australia
CATEGORIES:Events
ATTACH;FMTTYPE=image/jpeg:https://www.fishlanestudios.com/wp-content/uploads/2025/03/Briar-Rose-Detail-1_Largethumb.jpg
ORGANIZER;CN="Fish Lane Studios":MAILTO:wyn@fishlanestudios.com
END:VEVENT
END:VCALENDAR