BEGIN:VCALENDAR
VERSION:2.0
PRODID:-//Fish Lane Studios - ECPv6.15.20//NONSGML v1.0//EN
CALSCALE:GREGORIAN
METHOD:PUBLISH
X-ORIGINAL-URL:https://www.fishlanestudios.com
X-WR-CALDESC:Events for Fish Lane Studios
REFRESH-INTERVAL;VALUE=DURATION:PT1H
X-Robots-Tag:noindex
X-PUBLISHED-TTL:PT1H
BEGIN:VTIMEZONE
TZID:Australia/Brisbane
BEGIN:STANDARD
TZOFFSETFROM:+1000
TZOFFSETTO:+1000
TZNAME:AEST
DTSTART:20240101T000000
END:STANDARD
END:VTIMEZONE
BEGIN:VEVENT
DTSTART;TZID=Australia/Brisbane:20250615T100000
DTEND;TZID=Australia/Brisbane:20250615T143000
DTSTAMP:20260420T190531
CREATED:20250409T020136Z
LAST-MODIFIED:20250506T040427Z
UID:10000073-1749981600-1749997800@www.fishlanestudios.com
SUMMARY:Exploring Aussie Landscapes - Techniques and Tricks - Artist Wyn Vogel - Sunday 15th June 2025 - Hamilton Victoria
DESCRIPTION:‘Aussie’ skies and landscapes have the richest textures and colour of anywhere in the world – this one-day Workshop is designed to share with you some techniques and tricks to enable you to explore the images and ideas you collect as you travel around the regions of Australia and/or overseas! \n \nArtist Wyn Vogel – was very happy to explore and paint for 7 Days in the Kimberley WA\, in late 2024 and now based in the Western Districts of Victoria – she has a wealth of images and material to share with you. \nWyn works step by step – so that you don’t have to be an experienced Artists to enjoy a relaxed BYO Picnic and Paint Day in her new Fish Lane Studios in Hamilton Victoria – BYO your own lunch – tea and coffee are available\, cold sparkling water and some treats! \nBring a Picnic Lunch and a Mug\nThis is a full day Workshop – from 10am to 2.30pm or there about – so bring a picnic lunch – tea and coffee are available and a fridge of cool water is at your fingertips. \nArt Materials to Bring With You:\nAll of these items listed below are available to buy in Studio if you don’t have them – ! \n\nAt least 1 sheet Arches 300gsm Cold Pressed Watercolour Paper\nAnd some smaller sheets of watercolour paper to try out ideas – again experimental so these can be scraps from other Work if you have them!\n\nPAINTS | Watercolour Paint – Watercolour Pencils – Watercolour Inks – \nbut please bring whatever colours you have in your kit – \n\nUltramarine Blue\nIndigo\nCadmium Yellow – Deep\nPhthalo Blue\nAlizarin Crimson and/or Deep Cadmium Red – or similar colours – you are welcome to bring colours of your favourite roses see the images on the montage of Roses\n\nBrushes – at least those below –\nbut please bring whatever brushes you have in your kit: \nAt Least 1 of each brush below – more will help you: \n\n1 each x 1/2 inch and 3/4inch Angle Shader\n1 x wide wash brush at least 2 inches in width – for wet work\, we recommend the 2 inch Art Spectrum Soft Varnish Brush – I would recommend you have at least 2 with you\, and\n1 x wide dry brush at least 2 inches in width – feel it with you hand and maker sure it is very soft Goat Hair recommended – for dry work –\n1 x Squirrel Needle point or Chinese style calligraphy brush for detailed line work and layering of your colours – we recommend No10 – NEEF Squirrel Needle Point – see the images below and on the cover photo for guidance!\n\nOther Tools:\n\n1 x old kitchen spray bottle – washed out and ready to have clean water to spray across your paints – I recommend an old ‘Windex’ Bottle of similar to give you a good spray of water.\na 2B pencil and if you would like a rubber\nHair dryer to dry your work between layers\nBacking board to tape your sample papers down (core board or similar from Bunnings) and tape to manage your paper – we don’t use an easel we tape the paper to the backing board so we can move the paper and tilt or turn as needed to manage your paint and water.\n\nREFUND POLICY\n** refunds will be in full if we are notified 72 hours ahead of the Dates\, \n** we will withhold the card fee\, but refund bookings notified within 24 hours of the Workshops – however\, \n** if there is a no-show on the day without notification\, we will not refund the ticket at that time.
URL:https://www.fishlanestudios.com/event/exploring-aussie-landscapes-techniques-and-tricks-artist-wyn-vogel-sunday-11th-may-2025-hamilton-victoria/
LOCATION:Fish Lane Studios – Art Space 21 Brown Street Hamilton Vic 3300\, 21 Brown Street\, Hamilton\, Victoria\, 3300\, Australia
CATEGORIES:Events
ATTACH;FMTTYPE=image/jpeg:https://www.fishlanestudios.com/wp-content/uploads/2025/04/Montage-of-Grampians-and-Kimberley-2025_largethumb.jpg
ORGANIZER;CN="Fish Lane Studios":MAILTO:wyn@fishlanestudios.com
END:VEVENT
END:VCALENDAR